BEGIN:VCALENDAR
PRODID:http://www.kufer.de/kuferweb / DE
VERSION:2.0
METHOD:PUBLISH
CALSCALE:GREGORIAN
X-WR-TIMEZONE:Europe/Berlin
BEGIN:VTIMEZONE
TZID:Europe/Berlin
X-LIC-LOCATION:Europe/Berlin
BEGIN:DAYLIGHT
TZOFFSETFROM:+0100
TZOFFSETTO:+0200
TZNAME:CEST
DTSTART;TZID=Europe/Berlin:19700329T020000
RRULE:FREQ=YEARLY;INTERVAL=1;BYDAY=-1SU;BYMONTH=3
END:DAYLIGHT
BEGIN:STANDARD
TZOFFSETFROM:+0200
TZOFFSETTO:+0100
TZNAME:CET
DTSTART;TZID=Europe/Berlin:19701025T030000
RRULE:FREQ=YEARLY;INTERVAL=1;BYDAY=-1SU;BYMONTH=10
END:STANDARD
END:VTIMEZONE
BEGIN:VEVENT
DTSTAMP:20260423T032052
DTSTART;TZID=Europe/Berlin:20270319T160000
DTEND;TZID=Europe/Berlin:20270319T203000
UID:271-50012-20270319T160000@VHSSACHSENWALD
SUMMARY:Zertifikatskurs Qualifizierung pädagogischer Mitarbeiter:innen an Ganztagsschule Modul 3: Kommunikation und Konfliktlösung (271-50012) 
LOCATION:Reinbek, Volkshochschule, Raum 001, Klosterbergenstraße 2 a, 21465 Reinbek
END:VEVENT
BEGIN:VEVENT
DTSTAMP:20260423T032052
DTSTART;TZID=Europe/Berlin:20270320T093000
DTEND;TZID=Europe/Berlin:20270320T170000
UID:271-50012-20270320T093000@VHSSACHSENWALD
SUMMARY:Zertifikatskurs Qualifizierung pädagogischer Mitarbeiter:innen an Ganztagsschule Modul 3: Kommunikation und Konfliktlösung (271-50012) 
LOCATION:Reinbek, Volkshochschule, Raum 001, Klosterbergenstraße 2 a, 21465 Reinbek
END:VEVENT
END:VCALENDAR