BEGIN:VCALENDAR
PRODID:http://www.kufer.de/kuferweb / DE
VERSION:2.0
METHOD:PUBLISH
CALSCALE:GREGORIAN
X-WR-TIMEZONE:Europe/Berlin
BEGIN:VTIMEZONE
TZID:Europe/Berlin
X-LIC-LOCATION:Europe/Berlin
BEGIN:DAYLIGHT
TZOFFSETFROM:+0100
TZOFFSETTO:+0200
TZNAME:CEST
DTSTART;TZID=Europe/Berlin:19700329T020000
RRULE:FREQ=YEARLY;INTERVAL=1;BYDAY=-1SU;BYMONTH=3
END:DAYLIGHT
BEGIN:STANDARD
TZOFFSETFROM:+0200
TZOFFSETTO:+0100
TZNAME:CET
DTSTART;TZID=Europe/Berlin:19701025T030000
RRULE:FREQ=YEARLY;INTERVAL=1;BYDAY=-1SU;BYMONTH=10
END:STANDARD
END:VTIMEZONE
BEGIN:VEVENT
DTSTAMP:20260423T034305
DTSTART;TZID=Europe/Berlin:20270226T160000
DTEND;TZID=Europe/Berlin:20270226T203000
UID:271-50011-20270226T160000@VHSSACHSENWALD
DESCRIPTION:PB:5 Weiterbildung OGS
SUMMARY:Zertifikatskurs Qualifizierung pädagogischer Mitarbeiter:innen an Ganztagsschulen Modul 2: Kommunikation und Gesprächsführung (271-50011) 
LOCATION:Reinbek, Volkshochschule, Raum 001, Klosterbergenstraße 2 a, 21465 Reinbek
END:VEVENT
BEGIN:VEVENT
DTSTAMP:20260423T034305
DTSTART;TZID=Europe/Berlin:20270227T093000
DTEND;TZID=Europe/Berlin:20270227T170000
UID:271-50011-20270227T093000@VHSSACHSENWALD
DESCRIPTION:PB: 5 Weiterbildung OGS
SUMMARY:Zertifikatskurs Qualifizierung pädagogischer Mitarbeiter:innen an Ganztagsschulen Modul 2: Kommunikation und Gesprächsführung (271-50011) 
LOCATION:Reinbek, Volkshochschule, Raum 001, Klosterbergenstraße 2 a, 21465 Reinbek
END:VEVENT
END:VCALENDAR