BEGIN:VCALENDAR
PRODID:http://www.kufer.de/kuferweb / DE
VERSION:2.0
METHOD:PUBLISH
CALSCALE:GREGORIAN
X-WR-TIMEZONE:Europe/Berlin
BEGIN:VTIMEZONE
TZID:Europe/Berlin
X-LIC-LOCATION:Europe/Berlin
BEGIN:DAYLIGHT
TZOFFSETFROM:+0100
TZOFFSETTO:+0200
TZNAME:CEST
DTSTART;TZID=Europe/Berlin:19700329T020000
RRULE:FREQ=YEARLY;INTERVAL=1;BYDAY=-1SU;BYMONTH=3
END:DAYLIGHT
BEGIN:STANDARD
TZOFFSETFROM:+0200
TZOFFSETTO:+0100
TZNAME:CET
DTSTART;TZID=Europe/Berlin:19701025T030000
RRULE:FREQ=YEARLY;INTERVAL=1;BYDAY=-1SU;BYMONTH=10
END:STANDARD
END:VTIMEZONE
BEGIN:VEVENT
DTSTAMP:20260423T034309
DTSTART;TZID=Europe/Berlin:20270122T160000
DTEND;TZID=Europe/Berlin:20270122T203000
UID:271-50010-20270122T160000@VHSSACHSENWALD
SUMMARY:Zertifikatskurs Qualifizierung päd. Mitarbeiter:innen an Ganztagsschulen Modul 1: Arbeitsfeld Ganztagsschule (271-50010) 
LOCATION:Reinbek, Volkshochschule, Raum 001, Klosterbergenstraße 2 a, 21465 Reinbek
END:VEVENT
BEGIN:VEVENT
DTSTAMP:20260423T034309
DTSTART;TZID=Europe/Berlin:20270123T093000
DTEND;TZID=Europe/Berlin:20270123T170000
UID:271-50010-20270123T093000@VHSSACHSENWALD
SUMMARY:Zertifikatskurs Qualifizierung päd. Mitarbeiter:innen an Ganztagsschulen Modul 1: Arbeitsfeld Ganztagsschule (271-50010) 
LOCATION:Reinbek, Volkshochschule, Raum 001, Klosterbergenstraße 2 a, 21465 Reinbek
END:VEVENT
END:VCALENDAR