BEGIN:VCALENDAR
PRODID:http://www.kufer.de/kuferweb / DE
VERSION:2.0
METHOD:PUBLISH
CALSCALE:GREGORIAN
X-WR-TIMEZONE:Europe/Berlin
BEGIN:VTIMEZONE
TZID:Europe/Berlin
X-LIC-LOCATION:Europe/Berlin
BEGIN:DAYLIGHT
TZOFFSETFROM:+0100
TZOFFSETTO:+0200
TZNAME:CEST
DTSTART;TZID=Europe/Berlin:19700329T020000
RRULE:FREQ=YEARLY;INTERVAL=1;BYDAY=-1SU;BYMONTH=3
END:DAYLIGHT
BEGIN:STANDARD
TZOFFSETFROM:+0200
TZOFFSETTO:+0100
TZNAME:CET
DTSTART;TZID=Europe/Berlin:19701025T030000
RRULE:FREQ=YEARLY;INTERVAL=1;BYDAY=-1SU;BYMONTH=10
END:STANDARD
END:VTIMEZONE
BEGIN:VEVENT
DTSTAMP:20260424T204917
DTSTART;TZID=Europe/Berlin:20260414T163000
DTEND;TZID=Europe/Berlin:20260414T173000
UID:261-30119-20260414T163000@VHSSACHSENWALD
SUMMARY:Yoga und Entspannung (261-30119) 
LOCATION:Oststeinbek, Bürgersaal, Möllner Landstr. 22, 22113 Oststeinbek
END:VEVENT
BEGIN:VEVENT
DTSTAMP:20260424T204917
DTSTART;TZID=Europe/Berlin:20260421T163000
DTEND;TZID=Europe/Berlin:20260421T173000
UID:261-30119-20260421T163000@VHSSACHSENWALD
SUMMARY:Yoga und Entspannung (261-30119) 
LOCATION:Oststeinbek, Bürgersaal, Möllner Landstr. 22, 22113 Oststeinbek
END:VEVENT
BEGIN:VEVENT
DTSTAMP:20260424T204917
DTSTART;TZID=Europe/Berlin:20260428T163000
DTEND;TZID=Europe/Berlin:20260428T173000
UID:261-30119-20260428T163000@VHSSACHSENWALD
SUMMARY:Yoga und Entspannung (261-30119) 
LOCATION:Oststeinbek, Bürgersaal, Möllner Landstr. 22, 22113 Oststeinbek
END:VEVENT
BEGIN:VEVENT
DTSTAMP:20260424T204917
DTSTART;TZID=Europe/Berlin:20260505T163000
DTEND;TZID=Europe/Berlin:20260505T173000
UID:261-30119-20260505T163000@VHSSACHSENWALD
SUMMARY:Yoga und Entspannung (261-30119) 
LOCATION:Oststeinbek, Bürgersaal, Möllner Landstr. 22, 22113 Oststeinbek
END:VEVENT
BEGIN:VEVENT
DTSTAMP:20260424T204917
DTSTART;TZID=Europe/Berlin:20260512T163000
DTEND;TZID=Europe/Berlin:20260512T173000
UID:261-30119-20260512T163000@VHSSACHSENWALD
SUMMARY:Yoga und Entspannung (261-30119) 
LOCATION:Oststeinbek, Bürgersaal, Möllner Landstr. 22, 22113 Oststeinbek
END:VEVENT
BEGIN:VEVENT
DTSTAMP:20260424T204917
DTSTART;TZID=Europe/Berlin:20260519T163000
DTEND;TZID=Europe/Berlin:20260519T173000
UID:261-30119-20260519T163000@VHSSACHSENWALD
SUMMARY:Yoga und Entspannung (261-30119) 
LOCATION:Oststeinbek, Bürgersaal, Möllner Landstr. 22, 22113 Oststeinbek
END:VEVENT
BEGIN:VEVENT
DTSTAMP:20260424T204917
DTSTART;TZID=Europe/Berlin:20260602T163000
DTEND;TZID=Europe/Berlin:20260602T173000
UID:261-30119-20260602T163000@VHSSACHSENWALD
SUMMARY:Yoga und Entspannung (261-30119) 
LOCATION:Oststeinbek, Bürgersaal, Möllner Landstr. 22, 22113 Oststeinbek
END:VEVENT
BEGIN:VEVENT
DTSTAMP:20260424T204917
DTSTART;TZID=Europe/Berlin:20260609T163000
DTEND;TZID=Europe/Berlin:20260609T173000
UID:261-30119-20260609T163000@VHSSACHSENWALD
SUMMARY:Yoga und Entspannung (261-30119) 
LOCATION:Oststeinbek, Bürgersaal, Möllner Landstr. 22, 22113 Oststeinbek
END:VEVENT
BEGIN:VEVENT
DTSTAMP:20260424T204917
DTSTART;TZID=Europe/Berlin:20260616T163000
DTEND;TZID=Europe/Berlin:20260616T173000
UID:261-30119-20260616T163000@VHSSACHSENWALD
SUMMARY:Yoga und Entspannung (261-30119) 
LOCATION:Oststeinbek, Bürgersaal, Möllner Landstr. 22, 22113 Oststeinbek
END:VEVENT
END:VCALENDAR